BEGIN:VCALENDAR
VERSION:2.0
PRODID:-//Welcome to Christ Image Assembly - Northampton - ECPv6.15.20//NONSGML v1.0//EN
CALSCALE:GREGORIAN
METHOD:PUBLISH
X-ORIGINAL-URL:https://www.cianorthampton.org
X-WR-CALDESC:Events for Welcome to Christ Image Assembly - Northampton
REFRESH-INTERVAL;VALUE=DURATION:PT1H
X-Robots-Tag:noindex
X-PUBLISHED-TTL:PT1H
BEGIN:VTIMEZONE
TZID:UTC
BEGIN:STANDARD
TZOFFSETFROM:+0000
TZOFFSETTO:+0000
TZNAME:UTC
DTSTART:20240101T000000
END:STANDARD
END:VTIMEZONE
BEGIN:VEVENT
DTSTART;TZID=UTC:20250621T180000
DTEND;TZID=UTC:20250621T203000
DTSTAMP:20260423T205936
CREATED:20250315T223247Z
LAST-MODIFIED:20250316T075116Z
UID:6004-1750528800-1750537800@www.cianorthampton.org
SUMMARY:God Loves You Tour\, London - 21st June 2025
DESCRIPTION:Free bus transportation will be provided to the God Loves You Tour in London on Saturday\, June 21st\, 2025. Please invite friends\, colleagues\, and the unsaved to attend. For more information\, email admin@cianorthampton.org.
URL:https://www.cianorthampton.org/event/god-loves-you-tour-london-21st-june-2025/
LOCATION:ExCeL LONDON\, Royal Victoria Dock\, 1 Western Gateway\, London\, E16 1XL\, United Kingdom
CATEGORIES:Church activities,Evangelism,Outreaches
ATTACH;FMTTYPE=image/jpeg:https://www.cianorthampton.org/wp-content/uploads/2025/03/God-Loves-You-Tour.jpg
END:VEVENT
END:VCALENDAR